Package: TrajectoryUtils Version: 1.18.0 Command: /home/biocbuild/bbs-3.22-bioc/R/bin/R CMD check --install=check:TrajectoryUtils.install-out.txt --library=/home/biocbuild/bbs-3.22-bioc/R/site-library --timings TrajectoryUtils_1.18.0.tar.gz StartedAt: 2025-11-14 05:06:31 -0500 (Fri, 14 Nov 2025) EndedAt: 2025-11-14 05:09:39 -0500 (Fri, 14 Nov 2025) EllapsedTime: 188.1 seconds RetCode: 0 Status: OK CheckDir: TrajectoryUtils.Rcheck Warnings: 0