Package: TrajectoryUtils Version: 1.18.0 Command: /home/biocbuild/bbs-3.22-bioc/R/bin/R CMD build --keep-empty-dirs --no-resave-data --md5 TrajectoryUtils StartedAt: 2025-11-13 20:41:38 -0500 (Thu, 13 Nov 2025) EndedAt: 2025-11-13 20:42:12 -0500 (Thu, 13 Nov 2025) EllapsedTime: 34.0 seconds RetCode: 0 Status: OK PackageFile: TrajectoryUtils_1.18.0.tar.gz PackageFileSize: 336.7 KiB