Package: TrajectoryUtils Version: 1.16.1 Command: /home/biocbuild/bbs-3.21-bioc/R/bin/R CMD check --install=check:TrajectoryUtils.install-out.txt --library=/home/biocbuild/bbs-3.21-bioc/R/site-library --timings TrajectoryUtils_1.16.1.tar.gz StartedAt: 2025-10-13 04:35:19 -0400 (Mon, 13 Oct 2025) EndedAt: 2025-10-13 04:38:18 -0400 (Mon, 13 Oct 2025) EllapsedTime: 179.2 seconds RetCode: 0 Status: OK CheckDir: TrajectoryUtils.Rcheck Warnings: 0