Package: TrajectoryUtils Version: 1.16.1 Command: /Library/Frameworks/R.framework/Resources/bin/R CMD check --install=check:TrajectoryUtils.install-out.txt --library=/Library/Frameworks/R.framework/Resources/library --no-vignettes --timings TrajectoryUtils_1.16.1.tar.gz StartedAt: 2025-10-11 17:15:58 -0400 (Sat, 11 Oct 2025) EndedAt: 2025-10-11 17:19:26 -0400 (Sat, 11 Oct 2025) EllapsedTime: 207.4 seconds RetCode: 0 Status: OK CheckDir: TrajectoryUtils.Rcheck Warnings: 0