Package: TrajectoryGeometry Version: 1.18.0 Command: /home/biocbuild/R/R/bin/R CMD build --keep-empty-dirs --no-resave-data TrajectoryGeometry StartedAt: 2025-11-11 05:56:17 -0000 (Tue, 11 Nov 2025) EndedAt: 2025-11-11 06:04:01 -0000 (Tue, 11 Nov 2025) EllapsedTime: 464.3 seconds RetCode: 0 Status: OK PackageFile: TrajectoryGeometry_1.18.0.tar.gz PackageFileSize: 1.807 MiB