Package: TrIdent Version: 1.2.0 Command: /home/biocbuild/bbs-3.22-bioc/R/bin/R CMD build --keep-empty-dirs --no-resave-data --md5 TrIdent StartedAt: 2025-11-11 20:45:18 -0500 (Tue, 11 Nov 2025) EndedAt: 2025-11-11 20:46:00 -0500 (Tue, 11 Nov 2025) EllapsedTime: 42.0 seconds RetCode: 0 Status: OK PackageFile: TrIdent_1.2.0.tar.gz PackageFileSize: 1.613 MiB