Package: TrIdent Version: 1.2.0 Command: /Library/Frameworks/R.framework/Resources/bin/R CMD INSTALL TrIdent StartedAt: 2025-11-02 15:20:26 -0500 (Sun, 02 Nov 2025) EndedAt: 2025-11-02 15:21:06 -0500 (Sun, 02 Nov 2025) EllapsedTime: 40.6 seconds RetCode: 0 Status: OK