Package: TrIdent Version: 1.2.0 Command: /Library/Frameworks/R.framework/Resources/bin/R CMD build --keep-empty-dirs --no-resave-data TrIdent StartedAt: 2025-11-02 19:10:49 -0500 (Sun, 02 Nov 2025) EndedAt: 2025-11-02 19:11:44 -0500 (Sun, 02 Nov 2025) EllapsedTime: 54.8 seconds RetCode: 0 Status: OK PackageFile: TrIdent_1.2.0.tar.gz PackageFileSize: 1.758 MiB