Package: TrIdent Version: 1.2.0 Command: rm -rf TrIdent.buildbin-libdir && mkdir TrIdent.buildbin-libdir && /Users/biocbuild/BBS/utils/build-universal.sh TrIdent_1.2.0.tar.gz /Library/Frameworks/R.framework/Resources/bin/R TrIdent.buildbin-libdir StartedAt: 2025-11-03 02:10:03 -0500 (Mon, 03 Nov 2025) EndedAt: 2025-11-03 02:10:19 -0500 (Mon, 03 Nov 2025) EllapsedTime: 16.2 seconds RetCode: 0 Status: OK PackageFile: TrIdent_1.2.0.tgz PackageFileSize: 3.199 MiB