Package: TrIdent Version: 1.0.0 Command: /home/biocbuild/R/R/bin/R CMD build --keep-empty-dirs --no-resave-data TrIdent StartedAt: 2025-10-10 05:27:55 -0000 (Fri, 10 Oct 2025) EndedAt: 2025-10-10 05:29:09 -0000 (Fri, 10 Oct 2025) EllapsedTime: 74.0 seconds RetCode: 0 Status: OK PackageFile: TrIdent_1.0.0.tar.gz PackageFileSize: 1.548 MiB