Package: ToxicoGx Version: 2.14.0 Command: /home/biocbuild/bbs-3.22-bioc/R/bin/R CMD build --keep-empty-dirs --no-resave-data --md5 ToxicoGx StartedAt: 2025-11-13 20:40:46 -0500 (Thu, 13 Nov 2025) EndedAt: 2025-11-13 20:41:38 -0500 (Thu, 13 Nov 2025) EllapsedTime: 52.1 seconds RetCode: 0 Status: OK PackageFile: ToxicoGx_2.14.0.tar.gz PackageFileSize: 3.931 MiB