Package: TnT Version: 1.32.0 Command: /home/biocbuild/bbs-3.22-bioc/R/bin/R CMD INSTALL TnT StartedAt: 2025-11-17 17:23:10 -0500 (Mon, 17 Nov 2025) EndedAt: 2025-11-17 17:23:23 -0500 (Mon, 17 Nov 2025) EllapsedTime: 12.7 seconds RetCode: 0 Status: OK