Package: TitanCNA Version: 1.48.0 Command: /home/biocbuild/bbs-3.22-bioc/R/bin/R CMD build --keep-empty-dirs --no-resave-data --md5 TitanCNA StartedAt: 2025-11-11 20:41:18 -0500 (Tue, 11 Nov 2025) EndedAt: 2025-11-11 20:42:36 -0500 (Tue, 11 Nov 2025) EllapsedTime: 78.1 seconds RetCode: 1 Status: ERROR PackageFile: None PackageFileSize: NA