Package: TitanCNA Version: 1.48.0 Command: /Library/Frameworks/R.framework/Resources/bin/R CMD build --keep-empty-dirs --no-resave-data TitanCNA StartedAt: 2025-11-10 18:00:39 -0500 (Mon, 10 Nov 2025) EndedAt: 2025-11-10 18:01:14 -0500 (Mon, 10 Nov 2025) EllapsedTime: 35.4 seconds RetCode: 1 Status: ERROR PackageFile: None PackageFileSize: NA