Package: TissueEnrich Version: 1.30.0 Command: /home/biocbuild/R/R/bin/R CMD INSTALL TissueEnrich StartedAt: 2025-11-13 21:38:57 -0000 (Thu, 13 Nov 2025) EndedAt: 2025-11-13 21:39:37 -0000 (Thu, 13 Nov 2025) EllapsedTime: 39.3 seconds RetCode: 0 Status: OK