Package: TissueEnrich Version: 1.30.0 Command: /home/biocbuild/R/R/bin/R CMD build --keep-empty-dirs --no-resave-data TissueEnrich StartedAt: 2025-11-14 06:00:43 -0000 (Fri, 14 Nov 2025) EndedAt: 2025-11-14 06:01:49 -0000 (Fri, 14 Nov 2025) EllapsedTime: 66.1 seconds RetCode: 0 Status: OK PackageFile: TissueEnrich_1.30.0.tar.gz PackageFileSize: 3.384 MiB