Package: TissueEnrich Version: 1.30.0 Command: /home/biocbuild/bbs-3.22-bioc/R/bin/R CMD check --install=check:TissueEnrich.install-out.txt --library=/home/biocbuild/bbs-3.22-bioc/R/site-library --timings TissueEnrich_1.30.0.tar.gz StartedAt: 2025-11-12 05:02:04 -0500 (Wed, 12 Nov 2025) EndedAt: 2025-11-12 05:06:10 -0500 (Wed, 12 Nov 2025) EllapsedTime: 245.3 seconds RetCode: 0 Status: OK CheckDir: TissueEnrich.Rcheck Warnings: 0