Package: TissueEnrich Version: 1.28.0 Command: /Library/Frameworks/R.framework/Resources/bin/R CMD INSTALL TissueEnrich StartedAt: 2025-04-21 15:25:05 -0400 (Mon, 21 Apr 2025) EndedAt: 2025-04-21 15:25:43 -0400 (Mon, 21 Apr 2025) EllapsedTime: 38.6 seconds RetCode: 0 Status: OK