Package: TissueEnrich Version: 1.28.0 Command: /Library/Frameworks/R.framework/Resources/bin/R CMD build --keep-empty-dirs --no-resave-data TissueEnrich StartedAt: 2025-04-21 18:44:17 -0400 (Mon, 21 Apr 2025) EndedAt: 2025-04-21 18:45:15 -0400 (Mon, 21 Apr 2025) EllapsedTime: 57.2 seconds RetCode: 0 Status: OK PackageFile: TissueEnrich_1.28.0.tar.gz PackageFileSize: 3.606 MiB