Package: TissueEnrich Version: 1.28.0 Command: rm -rf TissueEnrich.buildbin-libdir && mkdir TissueEnrich.buildbin-libdir && /Users/biocbuild/BBS/utils/build-universal.sh TissueEnrich_1.28.0.tar.gz /Library/Frameworks/R.framework/Resources/bin/R TissueEnrich.buildbin-libdir StartedAt: 2025-04-21 22:55:27 -0400 (Mon, 21 Apr 2025) EndedAt: 2025-04-21 22:55:40 -0400 (Mon, 21 Apr 2025) EllapsedTime: 13.4 seconds RetCode: 0 Status: OK PackageFile: TissueEnrich_1.28.0.tgz PackageFileSize: 3.629 MiB