Package: TissueEnrich Version: 1.28.0 Command: /Library/Frameworks/R.framework/Resources/bin/R CMD build --keep-empty-dirs --no-resave-data TissueEnrich StartedAt: 2025-10-14 11:06:22 -0400 (Tue, 14 Oct 2025) EndedAt: 2025-10-14 11:07:27 -0400 (Tue, 14 Oct 2025) EllapsedTime: 65.4 seconds RetCode: 0 Status: OK PackageFile: TissueEnrich_1.28.0.tar.gz PackageFileSize: 3.606 MiB