Package: TileDBArray Version: 1.20.0 Command: /home/biocbuild/R/R/bin/R CMD INSTALL TileDBArray StartedAt: 2025-11-13 21:22:49 -0000 (Thu, 13 Nov 2025) EndedAt: 2025-11-13 21:22:52 -0000 (Thu, 13 Nov 2025) EllapsedTime: 2.6 seconds RetCode: 1 Status: ERROR