Package: TileDBArray Version: 1.20.0 Command: /home/biocbuild/bbs-3.22-bioc/R/bin/R CMD check --install=check:TileDBArray.install-out.txt --library=/home/biocbuild/bbs-3.22-bioc/R/site-library --timings TileDBArray_1.20.0.tar.gz StartedAt: 2025-11-12 05:00:10 -0500 (Wed, 12 Nov 2025) EndedAt: 2025-11-12 05:02:43 -0500 (Wed, 12 Nov 2025) EllapsedTime: 152.1 seconds RetCode: 0 Status: OK CheckDir: TileDBArray.Rcheck Warnings: 0