Package: TileDBArray Version: 1.20.0 Command: /home/biocbuild/bbs-3.22-bioc/R/bin/R CMD build --keep-empty-dirs --no-resave-data --md5 TileDBArray StartedAt: 2025-11-13 20:38:49 -0500 (Thu, 13 Nov 2025) EndedAt: 2025-11-13 20:39:20 -0500 (Thu, 13 Nov 2025) EllapsedTime: 31.0 seconds RetCode: 0 Status: OK PackageFile: TileDBArray_1.20.0.tar.gz PackageFileSize: 305.6 KiB