Package: TileDBArray Version: 1.18.0 Command: /home/biocbuild/bbs-3.21-bioc/R/bin/R CMD check --install=check:TileDBArray.install-out.txt --library=/home/biocbuild/bbs-3.21-bioc/R/site-library --timings TileDBArray_1.18.0.tar.gz StartedAt: 2025-10-13 04:29:17 -0400 (Mon, 13 Oct 2025) EndedAt: 2025-10-13 04:31:52 -0400 (Mon, 13 Oct 2025) EllapsedTime: 155.1 seconds RetCode: 0 Status: OK CheckDir: TileDBArray.Rcheck Warnings: 0