Package: TileDBArray Version: 1.18.0 Command: /Library/Frameworks/R.framework/Resources/bin/R CMD build --keep-empty-dirs --no-resave-data TileDBArray StartedAt: 2025-09-25 23:16:17 -0400 (Thu, 25 Sep 2025) EndedAt: 2025-09-25 23:17:19 -0400 (Thu, 25 Sep 2025) EllapsedTime: 62.0 seconds RetCode: 1 Status: ERROR PackageFile: None PackageFileSize: NA