Package: TileDBArray Version: 1.18.0 Command: /Library/Frameworks/R.framework/Resources/bin/R CMD check --install=check:TileDBArray.install-out.txt --library=/Library/Frameworks/R.framework/Resources/library --no-vignettes --timings TileDBArray_1.18.0.tar.gz StartedAt: 2025-04-21 22:06:56 -0400 (Mon, 21 Apr 2025) EndedAt: 2025-04-21 22:07:54 -0400 (Mon, 21 Apr 2025) EllapsedTime: 58.8 seconds RetCode: 0 Status: OK CheckDir: TileDBArray.Rcheck Warnings: 0