Package: TileDBArray Version: 1.18.0 Command: /Library/Frameworks/R.framework/Resources/bin/R CMD check --install=check:TileDBArray.install-out.txt --library=/Library/Frameworks/R.framework/Resources/library --no-vignettes --timings TileDBArray_1.18.0.tar.gz StartedAt: 2025-10-11 16:58:27 -0400 (Sat, 11 Oct 2025) EndedAt: 2025-10-11 17:01:24 -0400 (Sat, 11 Oct 2025) EllapsedTime: 177.5 seconds RetCode: 0 Status: OK CheckDir: TileDBArray.Rcheck Warnings: 0