Package: TaxSEA Version: 1.2.0 Command: /home/biocbuild/bbs-3.22-bioc/R/bin/R CMD INSTALL TaxSEA StartedAt: 2025-10-31 15:12:53 -0400 (Fri, 31 Oct 2025) EndedAt: 2025-10-31 15:13:15 -0400 (Fri, 31 Oct 2025) EllapsedTime: 22.2 seconds RetCode: 0 Status: OK