Package: TargetSearch Version: 2.12.0 Command: /home/biocbuild/bbs-3.22-bioc/R/bin/R CMD check --install=check:TargetSearch.install-out.txt --library=/home/biocbuild/bbs-3.22-bioc/R/site-library --timings TargetSearch_2.12.0.tar.gz StartedAt: 2025-11-15 05:06:25 -0500 (Sat, 15 Nov 2025) EndedAt: 2025-11-15 05:07:45 -0500 (Sat, 15 Nov 2025) EllapsedTime: 80.2 seconds RetCode: 0 Status: OK CheckDir: TargetSearch.Rcheck Warnings: 0