Package: TargetSearch Version: 2.12.0 Command: /home/biocbuild/bbs-3.22-bioc/R/bin/R CMD build --keep-empty-dirs --no-resave-data --md5 TargetSearch StartedAt: 2025-11-11 20:36:53 -0500 (Tue, 11 Nov 2025) EndedAt: 2025-11-11 20:37:19 -0500 (Tue, 11 Nov 2025) EllapsedTime: 26.0 seconds RetCode: 0 Status: OK PackageFile: TargetSearch_2.12.0.tar.gz PackageFileSize: 728.5 KiB