Package: TargetSearch Version: 2.12.0 Command: /Library/Frameworks/R.framework/Resources/bin/R CMD INSTALL TargetSearch StartedAt: 2025-11-03 15:09:17 -0500 (Mon, 03 Nov 2025) EndedAt: 2025-11-03 15:09:42 -0500 (Mon, 03 Nov 2025) EllapsedTime: 25.2 seconds RetCode: 0 Status: OK