Package: TargetSearch Version: 2.12.0 Command: /Library/Frameworks/R.framework/Resources/bin/R CMD build --keep-empty-dirs --no-resave-data TargetSearch StartedAt: 2025-11-03 19:03:23 -0500 (Mon, 03 Nov 2025) EndedAt: 2025-11-03 19:04:13 -0500 (Mon, 03 Nov 2025) EllapsedTime: 50.2 seconds RetCode: 0 Status: OK PackageFile: TargetSearch_2.12.0.tar.gz PackageFileSize: 720.4 KiB