Package: TargetSearch Version: 2.12.0 Command: rm -rf TargetSearch.buildbin-libdir && mkdir TargetSearch.buildbin-libdir && /Users/biocbuild/BBS/utils/build-universal.sh TargetSearch_2.12.0.tar.gz /Library/Frameworks/R.framework/Resources/bin/R TargetSearch.buildbin-libdir StartedAt: 2025-11-04 02:08:09 -0500 (Tue, 04 Nov 2025) EndedAt: 2025-11-04 02:08:26 -0500 (Tue, 04 Nov 2025) EllapsedTime: 16.4 seconds RetCode: 0 Status: OK PackageFile: TargetSearch_2.12.0.tgz PackageFileSize: 1.247 MiB