Package: TargetSearch Version: 2.10.0 Command: /Library/Frameworks/R.framework/Resources/bin/R CMD INSTALL TargetSearch StartedAt: 2025-04-21 15:01:20 -0400 (Mon, 21 Apr 2025) EndedAt: 2025-04-21 15:01:24 -0400 (Mon, 21 Apr 2025) EllapsedTime: 3.7 seconds RetCode: 0 Status: OK