Package: TargetSearch Version: 2.10.0 Command: /Library/Frameworks/R.framework/Resources/bin/R CMD build --keep-empty-dirs --no-resave-data TargetSearch StartedAt: 2025-04-21 17:50:56 -0400 (Mon, 21 Apr 2025) EndedAt: 2025-04-21 17:51:14 -0400 (Mon, 21 Apr 2025) EllapsedTime: 18.2 seconds RetCode: 0 Status: OK PackageFile: TargetSearch_2.10.0.tar.gz PackageFileSize: 718.6 KiB