Package: TargetSearch Version: 2.10.0 Command: rm -rf TargetSearch.buildbin-libdir && mkdir TargetSearch.buildbin-libdir && /Users/biocbuild/BBS/utils/build-universal.sh TargetSearch_2.10.0.tar.gz /Library/Frameworks/R.framework/Resources/bin/R TargetSearch.buildbin-libdir StartedAt: 2025-04-21 22:54:51 -0400 (Mon, 21 Apr 2025) EndedAt: 2025-04-21 22:54:56 -0400 (Mon, 21 Apr 2025) EllapsedTime: 5.3 seconds RetCode: 0 Status: OK PackageFile: TargetSearch_2.10.0.tgz PackageFileSize: 1.246 MiB