Package: TargetSearch Version: 2.12.0 Maintainer: Alvaro Cuadros-Inostroza MaintainerEmail: acuadros+bioc at gmail.com git_url: https://git.bioconductor.org/packages/TargetSearch git_branch: RELEASE_3_22 git_last_commit: ab9658a git_last_commit_date: 2025-10-29 10:02:47 -0400 (Wed, 29 Oct 2025)