Package: TargetScore Version: 1.48.0 Command: /home/biocbuild/R/R/bin/R CMD INSTALL TargetScore StartedAt: 2025-11-13 21:06:55 -0000 (Thu, 13 Nov 2025) EndedAt: 2025-11-13 21:07:11 -0000 (Thu, 13 Nov 2025) EllapsedTime: 16.5 seconds RetCode: 0 Status: OK