Package: TargetScore Version: 1.48.0 Command: /home/biocbuild/R/R/bin/R CMD build --keep-empty-dirs --no-resave-data TargetScore StartedAt: 2025-11-14 05:55:10 -0000 (Fri, 14 Nov 2025) EndedAt: 2025-11-14 05:55:36 -0000 (Fri, 14 Nov 2025) EllapsedTime: 26.0 seconds RetCode: 0 Status: OK PackageFile: TargetScore_1.48.0.tar.gz PackageFileSize: 1.228 MiB