Package: TargetScore Version: 1.46.0 Command: /home/biocbuild/bbs-3.21-bioc/R/bin/R CMD INSTALL TargetScore StartedAt: 2025-10-01 15:07:50 -0400 (Wed, 01 Oct 2025) EndedAt: 2025-10-01 15:07:58 -0400 (Wed, 01 Oct 2025) EllapsedTime: 8.0 seconds RetCode: 0 Status: OK