Package: TargetScore Version: 1.46.0 Command: /home/biocbuild/bbs-3.21-bioc/R/bin/R CMD build --keep-empty-dirs --no-resave-data TargetScore StartedAt: 2025-10-01 20:19:59 -0400 (Wed, 01 Oct 2025) EndedAt: 2025-10-01 20:20:15 -0400 (Wed, 01 Oct 2025) EllapsedTime: 16.0 seconds RetCode: 0 Status: OK PackageFile: TargetScore_1.46.0.tar.gz PackageFileSize: 1.234 MiB