Package: TargetScore Version: 1.46.0 Command: rm -rf TargetScore.buildbin-libdir && mkdir TargetScore.buildbin-libdir && /Users/biocbuild/BBS/utils/build-universal.sh TargetScore_1.46.0.tar.gz /Library/Frameworks/R.framework/Resources/bin/R TargetScore.buildbin-libdir StartedAt: 2025-10-14 14:56:28 -0400 (Tue, 14 Oct 2025) EndedAt: 2025-10-14 14:56:42 -0400 (Tue, 14 Oct 2025) EllapsedTime: 14.5 seconds RetCode: 0 Status: OK PackageFile: TargetScore_1.46.0.tgz PackageFileSize: 1.26 MiB