Package: TargetScore Version: 1.46.0 Command: /Library/Frameworks/R.framework/Resources/bin/R CMD INSTALL TargetScore StartedAt: 2025-10-02 15:16:13 -0400 (Thu, 02 Oct 2025) EndedAt: 2025-10-02 15:16:20 -0400 (Thu, 02 Oct 2025) EllapsedTime: 6.7 seconds RetCode: 0 Status: OK