Package: TargetScore Version: 1.46.0 Command: /Library/Frameworks/R.framework/Resources/bin/R CMD build --keep-empty-dirs --no-resave-data TargetScore StartedAt: 2025-09-30 10:46:31 -0400 (Tue, 30 Sep 2025) EndedAt: 2025-09-30 10:46:59 -0400 (Tue, 30 Sep 2025) EllapsedTime: 27.4 seconds RetCode: 0 Status: OK PackageFile: TargetScore_1.46.0.tar.gz PackageFileSize: 1.227 MiB