Package: TargetDecoy Version: 1.16.0 Command: /home/biocbuild/bbs-3.22-bioc/R/bin/R CMD check --install=check:TargetDecoy.install-out.txt --library=/home/biocbuild/bbs-3.22-bioc/R/site-library --timings TargetDecoy_1.16.0.tar.gz StartedAt: 2025-11-15 05:05:42 -0500 (Sat, 15 Nov 2025) EndedAt: 2025-11-15 05:07:32 -0500 (Sat, 15 Nov 2025) EllapsedTime: 110.2 seconds RetCode: 0 Status: OK CheckDir: TargetDecoy.Rcheck Warnings: 0