Package: TargetDecoy Version: 1.16.0 Command: /home/biocbuild/bbs-3.22-bioc/R/bin/R CMD build --keep-empty-dirs --no-resave-data --md5 TargetDecoy StartedAt: 2025-11-11 20:36:50 -0500 (Tue, 11 Nov 2025) EndedAt: 2025-11-11 20:37:29 -0500 (Tue, 11 Nov 2025) EllapsedTime: 39.1 seconds RetCode: 0 Status: OK PackageFile: TargetDecoy_1.16.0.tar.gz PackageFileSize: 4.092 MiB