Package: TargetDecoy Version: 1.16.0 Command: /Library/Frameworks/R.framework/Resources/bin/R CMD build --keep-empty-dirs --no-resave-data TargetDecoy StartedAt: 2025-11-02 19:05:06 -0500 (Sun, 02 Nov 2025) EndedAt: 2025-11-02 19:05:54 -0500 (Sun, 02 Nov 2025) EllapsedTime: 47.8 seconds RetCode: 0 Status: OK PackageFile: TargetDecoy_1.16.0.tar.gz PackageFileSize: 4.164 MiB