Package: TargetDecoy Version: 1.16.0 Command: rm -rf TargetDecoy.buildbin-libdir && mkdir TargetDecoy.buildbin-libdir && /Users/biocbuild/BBS/utils/build-universal.sh TargetDecoy_1.16.0.tar.gz /Library/Frameworks/R.framework/Resources/bin/R TargetDecoy.buildbin-libdir StartedAt: 2025-11-03 02:08:36 -0500 (Mon, 03 Nov 2025) EndedAt: 2025-11-03 02:08:51 -0500 (Mon, 03 Nov 2025) EllapsedTime: 15.0 seconds RetCode: 0 Status: OK PackageFile: TargetDecoy_1.16.0.tgz PackageFileSize: 3.879 MiB