Package: TargetDecoy Version: 1.14.0 Command: /home/biocbuild/R/R/bin/R CMD INSTALL TargetDecoy StartedAt: 2025-10-13 20:38:12 -0000 (Mon, 13 Oct 2025) EndedAt: 2025-10-13 20:38:25 -0000 (Mon, 13 Oct 2025) EllapsedTime: 12.8 seconds RetCode: 0 Status: OK